BEGIN:VCALENDAR
VERSION:2.0
PRODID:spatie/icalendar-generator
DESCRIPTION:Veranstaltungen von Projekt 31
X-WR-CALDESC:Veranstaltungen von Projekt 31
REFRESH-INTERVAL;VALUE=DURATION:PT1440M
X-PUBLISHED-TTL:PT1440M
BEGIN:VTIMEZONE
TZID:Europe/Berlin
BEGIN:STANDARD
DTSTART:20251026T030000Z
TZOFFSETFROM:+0200
TZOFFSETTO:+0100
END:STANDARD
BEGIN:DAYLIGHT
DTSTART:20260329T020000Z
TZOFFSETFROM:+0100
TZOFFSETTO:+0200
END:DAYLIGHT
END:VTIMEZONE
BEGIN:VTIMEZONE
TZID:UTC
BEGIN:STANDARD
DTSTART:20250725T081858Z
TZOFFSETFROM:+0000
TZOFFSETTO:+0000
END:STANDARD
END:VTIMEZONE
BEGIN:VEVENT
UID:1121-315
DTSTAMP:20260421T081858Z
SUMMARY:FÄLLT AUS Sportliches Austoben mit Musik FÄLLT AUS
LOCATION:Projekt 31 An den Rampen 31  Nürnberg Bayern 90443
ORGANIZER;CN=Projekt 31:MAILTO:homepage@projekt31.org
DTSTART;TZID=Europe/Berlin:20260319T170000
DTEND;TZID=Europe/Berlin:20260319T180000
X-ALT-DESC;FMTTYPE=TEXT/HTML:<p>Muss leider ausfallen\, mehr Infos hier: ht
 tps://projekt31.org/kein-jahr-ohne-krise/</p>\n
CATEGORIES:Bewegung
URL;VALUE=URI:https://projekt31.org/events/faellt-aus-sportliches-austoben-
 mit-musik-faellt-aus-2/
METHOD:PUBLISH
END:VEVENT
END:VCALENDAR