BEGIN:VCALENDAR
VERSION:2.0
PRODID:spatie/icalendar-generator
DESCRIPTION:Veranstaltungen von Projekt 31
X-WR-CALDESC:Veranstaltungen von Projekt 31
REFRESH-INTERVAL;VALUE=DURATION:PT1440M
X-PUBLISHED-TTL:PT1440M
BEGIN:VTIMEZONE
TZID:Europe/Berlin
BEGIN:STANDARD
DTSTART:20221030T030000Z
TZOFFSETFROM:+0200
TZOFFSETTO:+0100
END:STANDARD
BEGIN:DAYLIGHT
DTSTART:20230326T020000Z
TZOFFSETFROM:+0100
TZOFFSETTO:+0200
END:DAYLIGHT
BEGIN:STANDARD
DTSTART:20231029T030000Z
TZOFFSETFROM:+0200
TZOFFSETTO:+0100
END:STANDARD
END:VTIMEZONE
BEGIN:VTIMEZONE
TZID:UTC
BEGIN:STANDARD
DTSTART:20250730T001604Z
TZOFFSETFROM:+0000
TZOFFSETTO:+0000
END:STANDARD
END:VTIMEZONE
BEGIN:VEVENT
UID:200-65
DTSTAMP:20260426T001604Z
SUMMARY:Kritisches Weißsein – eine Auseinandersetzung für weiß positio
 nierte Menschen
LOCATION:Projekt 31 An den Rampen 31  Nürnberg Bayern 90443
ORGANIZER;CN=Projekt 31:MAILTO:homepage@projekt31.org
DTSTART;TZID=Europe/Berlin:20230515T180000
DTEND;TZID=Europe/Berlin:20230515T210000
X-ALT-DESC;FMTTYPE=TEXT/HTML:<p>Workshop: Kritisches Weißsein – eine Aus
 einandersetzung für weiß positionierte Menschen\, um neue Perspektiven z
 u erlangen und Zugänge für BIPoCs in FLinta*Räumen zu ermöglichen</p>\
 n
CATEGORIES:Workshop
URL;VALUE=URI:https://projekt31.org/events/kritisches-weisssein-eine-ausein
 andersetzung-fuer-weiss-positionierte-menschen/
METHOD:PUBLISH
END:VEVENT
END:VCALENDAR