BEGIN:VCALENDAR
VERSION:2.0
PRODID:spatie/icalendar-generator
DESCRIPTION:Veranstaltungen von Projekt 31
X-WR-CALDESC:Veranstaltungen von Projekt 31
REFRESH-INTERVAL;VALUE=DURATION:PT1440M
X-PUBLISHED-TTL:PT1440M
BEGIN:VTIMEZONE
TZID:Europe/Berlin
BEGIN:STANDARD
DTSTART:20241027T030000Z
TZOFFSETFROM:+0200
TZOFFSETTO:+0100
END:STANDARD
BEGIN:DAYLIGHT
DTSTART:20250330T020000Z
TZOFFSETFROM:+0100
TZOFFSETTO:+0200
END:DAYLIGHT
BEGIN:STANDARD
DTSTART:20251026T030000Z
TZOFFSETFROM:+0200
TZOFFSETTO:+0100
END:STANDARD
END:VTIMEZONE
BEGIN:VTIMEZONE
TZID:UTC
BEGIN:STANDARD
DTSTART:20250729T200828Z
TZOFFSETFROM:+0000
TZOFFSETTO:+0000
END:STANDARD
END:VTIMEZONE
BEGIN:VEVENT
UID:630-194
DTSTAMP:20260425T200828Z
SUMMARY:Konzert zur Sommersonnwende
LOCATION:Projekt 31 An den Rampen 31  Nürnberg Bayern 90443
ORGANIZER;CN=Projekt 31:MAILTO:homepage@projekt31.org
DTSTART;TZID=Europe/Berlin:20250621T190000
DTEND;TZID=Europe/Berlin:20250621T220000
X-ALT-DESC;FMTTYPE=TEXT/HTML:Doors: 19Uhr Konzert: 20Uhr wutholz - Anarchoq
 ueerökoterrorwaldbesetzungsakustikfolkpunk mit Pfadi Influences https://w
 utholz.bandcamp.com/album/gesch-pfe-der-nacht lotto - widerständige Gitar
 ren Mukke https://lotto-musik.bandcamp.com/track/neuwahln-demo Die Hälfte
  der Spenden die an dem Tag gesammelt werden geht an den unkommerziellen C
 SD Nürnberg. Mehr Infos zum unkommerziellen CSD findet ihr hier https://l
 sbt.me/@unkCSDnbg und demnächst auch hier https://unkommerziellercsd.word
 press.com Stay Tuned Bis dann🖤
CATEGORIES:Konzert
URL;VALUE=URI:https://projekt31.org/events/konzert-zur-sommersonnwende/
METHOD:PUBLISH
END:VEVENT
END:VCALENDAR