BEGIN:VCALENDAR
VERSION:2.0
PRODID:spatie/icalendar-generator
DESCRIPTION:Veranstaltungen von Projekt 31
X-WR-CALDESC:Veranstaltungen von Projekt 31
REFRESH-INTERVAL;VALUE=DURATION:PT1440M
X-PUBLISHED-TTL:PT1440M
BEGIN:VTIMEZONE
TZID:Europe/Berlin
BEGIN:DAYLIGHT
DTSTART:20250330T020000Z
TZOFFSETFROM:+0100
TZOFFSETTO:+0200
END:DAYLIGHT
BEGIN:STANDARD
DTSTART:20251026T030000Z
TZOFFSETFROM:+0200
TZOFFSETTO:+0100
END:STANDARD
BEGIN:DAYLIGHT
DTSTART:20260329T020000Z
TZOFFSETFROM:+0100
TZOFFSETTO:+0200
END:DAYLIGHT
END:VTIMEZONE
BEGIN:VTIMEZONE
TZID:UTC
BEGIN:STANDARD
DTSTART:20250724T174353Z
TZOFFSETFROM:+0000
TZOFFSETTO:+0000
END:STANDARD
END:VTIMEZONE
BEGIN:VEVENT
UID:946-254
DTSTAMP:20260420T174353Z
SUMMARY:Kaffee &amp;amp\; Kuchen + Plätzchenbacken &amp;lt\;3
LOCATION:Projekt 31 An den Rampen 31  Nürnberg Bayern 90443
ORGANIZER;CN=Projekt 31:MAILTO:homepage@projekt31.org
DTSTART;TZID=Europe/Berlin:20251221T140000
DTEND;TZID=Europe/Berlin:20251221T200000
X-ALT-DESC;FMTTYPE=TEXT/HTML:https://projekt31.org/projekte/kaffee-und-kuch
 en/ Am 21.12. findet das letzte Kaffee und Kuchen in diesem Jahr im P31 st
 att. Ab 14 Uhr gibt es vegane Leckereien auf Spendenbasis. Wer kann und ma
 g\, steuert gern Kuchen bei. :) Dieses Mal: Gemeinsames Plätzchen-Backen 
 im Seminarraum. Wichtig: Bringt Ausstechformen\, ein Nudelholz und Deko-Ma
 terial mit\, wenn ihr das zuhause habt! Wir haben aber&amp;hellip\;
CATEGORIES:Kaffee und Kuchen
URL;VALUE=URI:https://projekt31.org/events/kaffee-kuchen-plaetzchenbacken-3
 /
METHOD:PUBLISH
END:VEVENT
END:VCALENDAR