BEGIN:VCALENDAR
VERSION:2.0
PRODID:spatie/icalendar-generator
DESCRIPTION:Veranstaltungen von Projekt 31
X-WR-CALDESC:Veranstaltungen von Projekt 31
REFRESH-INTERVAL;VALUE=DURATION:PT1440M
X-PUBLISHED-TTL:PT1440M
BEGIN:VTIMEZONE
TZID:Europe/Berlin
BEGIN:STANDARD
DTSTART:20251026T030000Z
TZOFFSETFROM:+0200
TZOFFSETTO:+0100
END:STANDARD
BEGIN:DAYLIGHT
DTSTART:20260329T020000Z
TZOFFSETFROM:+0100
TZOFFSETTO:+0200
END:DAYLIGHT
END:VTIMEZONE
BEGIN:VTIMEZONE
TZID:UTC
BEGIN:STANDARD
DTSTART:20250724T111709Z
TZOFFSETFROM:+0000
TZOFFSETTO:+0000
END:STANDARD
END:VTIMEZONE
BEGIN:VEVENT
UID:950-257
DTSTAMP:20260420T111709Z
SUMMARY:Weihnachtsfeier für alle und Hangout-Kneipe
LOCATION:Projekt 31 An den Rampen 31  Nürnberg Bayern 90443
ORGANIZER;CN=Projekt 31:MAILTO:homepage@projekt31.org
DTSTART;TZID=Europe/Berlin:20251226T190000
DTEND;TZID=Europe/Berlin:20251226T220000
X-ALT-DESC;FMTTYPE=TEXT/HTML:https://projekt31.org/weihnachten-im-p31/
CATEGORIES:Hang-Out-Kneipe
URL;VALUE=URI:https://projekt31.org/events/weihnachtsfeier-fuer-alle-und-ha
 ngout-kneipe/
METHOD:PUBLISH
END:VEVENT
END:VCALENDAR