BEGIN:VCALENDAR
VERSION:2.0
PRODID:spatie/icalendar-generator
DESCRIPTION:Veranstaltungen von Projekt 31
X-WR-CALDESC:Veranstaltungen von Projekt 31
REFRESH-INTERVAL;VALUE=DURATION:PT1440M
X-PUBLISHED-TTL:PT1440M
BEGIN:VTIMEZONE
TZID:Europe/Berlin
BEGIN:STANDARD
DTSTART:20251026T030000Z
TZOFFSETFROM:+0200
TZOFFSETTO:+0100
END:STANDARD
BEGIN:DAYLIGHT
DTSTART:20260329T020000Z
TZOFFSETFROM:+0100
TZOFFSETTO:+0200
END:DAYLIGHT
END:VTIMEZONE
BEGIN:VTIMEZONE
TZID:UTC
BEGIN:STANDARD
DTSTART:20250724T210044Z
TZOFFSETFROM:+0000
TZOFFSETTO:+0000
END:STANDARD
END:VTIMEZONE
BEGIN:VEVENT
UID:1087-262
DTSTAMP:20260420T210044Z
SUMMARY:Kaffee &amp;amp\; Kuchen
LOCATION:Projekt 31 An den Rampen 31  Nürnberg Bayern 90443
ORGANIZER;CN=Projekt 31:MAILTO:homepage@projekt31.org
DTSTART;TZID=Europe/Berlin:20260118T140000
DTEND;TZID=Europe/Berlin:20260118T180000
X-ALT-DESC;FMTTYPE=TEXT/HTML:Am 18.01. ab 14 Uhr gibt es wie so oft leckere
 \, vegane Kuchen im P31 und dazu Kaffee und Tee soviel ihr wollt. Alles au
 f Spendenbasis. Das ganze funktioniert als Mitbring-Buffet: Bringt gern ei
 nen eigenen Kuchen oder Kekse mit und nehmt euch die Kosten dafür wieder 
 raus. Wir freuen uns auf euch :)
CATEGORIES:Kaffee und Kuchen
URL;VALUE=URI:https://projekt31.org/events/kaffee-kuchen-3/
METHOD:PUBLISH
END:VEVENT
END:VCALENDAR