BEGIN:VCALENDAR
VERSION:2.0
PRODID:spatie/icalendar-generator
DESCRIPTION:Veranstaltungen von Projekt 31
X-WR-CALDESC:Veranstaltungen von Projekt 31
REFRESH-INTERVAL;VALUE=DURATION:PT1440M
X-PUBLISHED-TTL:PT1440M
BEGIN:VTIMEZONE
TZID:Europe/Berlin
BEGIN:STANDARD
DTSTART:20241027T030000Z
TZOFFSETFROM:+0200
TZOFFSETTO:+0100
END:STANDARD
BEGIN:DAYLIGHT
DTSTART:20250330T020000Z
TZOFFSETFROM:+0100
TZOFFSETTO:+0200
END:DAYLIGHT
END:VTIMEZONE
BEGIN:VTIMEZONE
TZID:UTC
BEGIN:STANDARD
DTSTART:20250730T001405Z
TZOFFSETFROM:+0000
TZOFFSETTO:+0000
END:STANDARD
END:VTIMEZONE
BEGIN:VEVENT
UID:417-170
DTSTAMP:20260426T001405Z
SUMMARY:Nerd Kneipe
LOCATION:Projekt 31 An den Rampen 31  Nürnberg Bayern 90443
ORGANIZER;CN=Projekt 31:MAILTO:homepage@projekt31.org
DTSTART;TZID=Europe/Berlin:20250410T180000
DTEND;TZID=Europe/Berlin:20250410T190000
X-ALT-DESC;FMTTYPE=TEXT/HTML:Am 10.04. findet die erste P31-Nerd-Kneipe sta
 tt\, wenn es klappt wollen wir das Ganze jetzt jeden zweiten Donnerstag im
  Monat machen. Um 18 Uhr geht es los. Das Quiz startet um 20 Uhr. Wenn du 
 zwar Nerd-Kultur liebst\, aber dir viele Veranstaltungen\, Gruppen\, Space
 s oder Kontexte zu unpolitisch sind\, dir der feministische Anspruch oder 
 dir&amp;hellip\;
CATEGORIES:sonstige Veranstaltung
URL;VALUE=URI:https://projekt31.org/events/nerd-kneipe/
METHOD:PUBLISH
END:VEVENT
END:VCALENDAR