BEGIN:VCALENDAR
VERSION:2.0
PRODID:spatie/icalendar-generator
DESCRIPTION:Veranstaltungen von Projekt 31
X-WR-CALDESC:Veranstaltungen von Projekt 31
REFRESH-INTERVAL;VALUE=DURATION:PT1440M
X-PUBLISHED-TTL:PT1440M
BEGIN:VTIMEZONE
TZID:Europe/Berlin
BEGIN:STANDARD
DTSTART:20251026T030000Z
TZOFFSETFROM:+0200
TZOFFSETTO:+0100
END:STANDARD
BEGIN:DAYLIGHT
DTSTART:20260329T020000Z
TZOFFSETFROM:+0100
TZOFFSETTO:+0200
END:DAYLIGHT
END:VTIMEZONE
BEGIN:VTIMEZONE
TZID:UTC
BEGIN:STANDARD
DTSTART:20250724T113235Z
TZOFFSETFROM:+0000
TZOFFSETTO:+0000
END:STANDARD
END:VTIMEZONE
BEGIN:VEVENT
UID:917-252
DTSTAMP:20260420T113235Z
SUMMARY:brücken bauen entlang der roten linien - antifa soli-party und kon
 zert
LOCATION:Projekt 31 An den Rampen 31  Nürnberg Bayern 90443
ORGANIZER;CN=Projekt 31:MAILTO:homepage@projekt31.org
DTSTART;TZID=Europe/Berlin:20251227T180000
DTEND;TZID=Europe/Berlin:20251227T190000
X-ALT-DESC;FMTTYPE=TEXT/HTML:Getreu dem Motto „Brücken bauen entlang der
  roten Linien“ erwartet dich am 27.12. im Projekt 31 in Nürnberg ein wi
 lder Mix aus vielem: Bands unterschiedlicher Couleur\, DJ‘s mit tanzbare
 m und dramatischem Set\, Sekt Specials und noch die ein oder anderen Über
 raschung ✨🌟 Das Wichtigste zum Schluss: Always Antifa - solidarisch -
  antinational und liebenvoll. Die&amp;hellip\;
CATEGORIES:Konzert,  Party
URL;VALUE=URI:https://projekt31.org/events/bruecken-bauen-entlang-der-roten
 -linien-antifa-soli-party-und-konzert/
METHOD:PUBLISH
END:VEVENT
END:VCALENDAR